BEGIN:VCALENDAR
VERSION:2.0
PRODID:-//Alzate & Asociados//EN
BEGIN:VEVENT
UID:69ea22e65114e@alzateyasociados.com
DTSTAMP:20260423T134718Z
DTSTART:20260428T100000
DTEND:20260428T110000
SUMMARY:Conversatorio - Alzate & Asociados
DESCRIPTION:Link de ingreso: https://alzateyasociados.com/ingreso-teams-webinar
LOCATION:Microsoft Teams
END:VEVENT
END:VCALENDAR